BEGIN:VCALENDAR
VERSION:2.0
PRODID:-//Lorne Community House - ECPv4.6.26//NONSGML v1.0//EN
CALSCALE:GREGORIAN
METHOD:PUBLISH
X-WR-CALNAME:Lorne Community House
X-ORIGINAL-URL:https://lornecommunityhouse.org.au
X-WR-CALDESC:Events for Lorne Community House
BEGIN:VEVENT
DTSTART;TZID=Australia/Melbourne:20200129T173000
DTEND;TZID=Australia/Melbourne:20200129T183000
DTSTAMP:20200228T082942
CREATED:20180427T064830Z
LAST-MODIFIED:20180427T064830Z
UID:4064-1580319000-1580322600@lornecommunityhouse.org.au
SUMMARY:Pilates Mat Class 5.30pm
DESCRIPTION:The Pilates method is a balanced and safe approach to fitness. It effectively addresses both general and specific fitness goals such as strengthening core muscles\, improving posture and flexibility\, building lean muscle\, rehabilitation\, or simply improving functional fitness for leisure activities. \nSuitable for all fitness levels\, these sessions will provide you with a new energy and practical techniques for everyday application. \n
URL:https://lornecommunityhouse.org.au/event/pilates-mat-class-5-30pm/2020-01-29/
LOCATION:Lorne Community House\, 16 Mountjoy Parade\, Lorne\, Victoria\, 3232\, Australia
GEO:-38.5365953;143.9733001
X-APPLE-STRUCTURED-LOCATION;VALUE=URI;X-ADDRESS=Lorne Community House 16 Mountjoy Parade Lorne Victoria 3232 Australia;X-APPLE-RADIUS=500;X-TITLE=16 Mountjoy Parade:geo:143.9733001,-38.5365953
CATEGORIES:Exercise/Lifestyle
ATTACH;FMTTYPE=image/jpeg:https://lornecommunityhouse.org.au/wp-content/uploads/2018/04/shutterstock_645012889-1-e1525310422719.jpg
ORGANIZER;CN="Lina%20Libroaperto":MAILTO:libfit@internode.on.net
END:VEVENT
BEGIN:VEVENT
DTSTART;TZID=Australia/Melbourne:20200129T190000
DTEND;TZID=Australia/Melbourne:20200129T210000
DTSTAMP:20200228T082942
CREATED:20180427T065329Z
LAST-MODIFIED:20200130T044422Z
UID:3920-1580324400-1580331600@lornecommunityhouse.org.au
SUMMARY:Social Bridge 7pm
DESCRIPTION:Join a relaxed atmosphere with friends to play Bridge.\nBYO drinks\, nibbles and enjoy playing this well-loved card game.\nThis is a great opportunity to meet new people and suits all levels of experience\, from beginners to experts. \nCall Linton on 0499 868 292 if you’d like to play as there are set numbers required. \n
URL:https://lornecommunityhouse.org.au/event/social-bridge-7pm/2020-01-29/
LOCATION:Lorne Community House\, 16 Mountjoy Parade\, Lorne\, Victoria\, 3232\, Australia
GEO:-38.5365953;143.9733001
X-APPLE-STRUCTURED-LOCATION;VALUE=URI;X-ADDRESS=Lorne Community House 16 Mountjoy Parade Lorne Victoria 3232 Australia;X-APPLE-RADIUS=500;X-TITLE=16 Mountjoy Parade:geo:143.9733001,-38.5365953
CATEGORIES:Games
ATTACH;FMTTYPE=image/jpeg:https://lornecommunityhouse.org.au/wp-content/uploads/2018/04/Games-e1525746478330.jpg
ORGANIZER;CN="Lorne%20Community%20House":MAILTO:communityhouse.lorne@gorh.vic.gov.au
END:VEVENT
END:VCALENDAR