BEGIN:VCALENDAR
VERSION:2.0
PRODID:-//Lorne Community House - ECPv4.6.26//NONSGML v1.0//EN
CALSCALE:GREGORIAN
METHOD:PUBLISH
X-WR-CALNAME:Lorne Community House
X-ORIGINAL-URL:https://lornecommunityhouse.org.au
X-WR-CALDESC:Events for Lorne Community House
BEGIN:VEVENT
DTSTART;TZID=Australia/Melbourne:20200128T110000
DTEND;TZID=Australia/Melbourne:20200128T110000
DTSTAMP:20200228T082557
CREATED:20180510T054737Z
LAST-MODIFIED:20200205T004317Z
UID:3967-1580209200-1580209200@lornecommunityhouse.org.au
SUMMARY:Gardening 11am
DESCRIPTION:Do you want to grow amazing veggies and plants at home? Join other gardening enthusiasts in our Daisy and Olive Garden and meet with our local expert Colin\, to learn more about Worm Farming and Composting. Have a look through our amazing project of converting Lorne café wastes into a premium soil amendment –Vermicompost\, mulch and coffee compost can also be supplied to Lorne residents. \n
URL:https://lornecommunityhouse.org.au/event/gardening-11am-11/2020-01-28/
LOCATION:Lorne Community House\, 16 Mountjoy Parade\, Lorne\, Victoria\, 3232\, Australia
GEO:-38.5365953;143.9733001
X-APPLE-STRUCTURED-LOCATION;VALUE=URI;X-ADDRESS=Lorne Community House 16 Mountjoy Parade Lorne Victoria 3232 Australia;X-APPLE-RADIUS=500;X-TITLE=16 Mountjoy Parade:geo:143.9733001,-38.5365953
CATEGORIES:Garden
ATTACH;FMTTYPE=image/jpeg:https://lornecommunityhouse.org.au/wp-content/uploads/2018/04/Gardening-e1557380839725.jpg
ORGANIZER;CN="Lorne%20Community%20House":MAILTO:communityhouse.lorne@gorh.vic.gov.au
END:VEVENT
END:VCALENDAR