BEGIN:VCALENDAR
VERSION:2.0
PRODID:-//Lorne Community House - ECPv4.6.26//NONSGML v1.0//EN
CALSCALE:GREGORIAN
METHOD:PUBLISH
X-WR-CALNAME:Lorne Community House
X-ORIGINAL-URL:https://lornecommunityhouse.org.au
X-WR-CALDESC:Events for Lorne Community House
BEGIN:VEVENT
DTSTART;TZID=Australia/Melbourne:20200127T173000
DTEND;TZID=Australia/Melbourne:20200127T184500
DTSTAMP:20200228T082311
CREATED:20180801T030518Z
LAST-MODIFIED:20200130T042058Z
UID:3667-1580146200-1580150700@lornecommunityhouse.org.au
SUMMARY:Hatha Yoga - 5.30pm
DESCRIPTION:Focus on the correct alignment\, moving mindfully and safely through the postures\, connection to breath and meditation. Props available for support and to modify postures safely. \nThe practice of yoga can bring strength\, flexibility\, vitality and balance to the body and also nurture a healthy mind and sense of well-being. \n
URL:https://lornecommunityhouse.org.au/event/hatha-yoga-3/2020-01-27/
LOCATION:Lorne Community House\, 16 Mountjoy Parade\, Lorne\, Victoria\, 3232\, Australia
GEO:-38.5365953;143.9733001
X-APPLE-STRUCTURED-LOCATION;VALUE=URI;X-ADDRESS=Lorne Community House 16 Mountjoy Parade Lorne Victoria 3232 Australia;X-APPLE-RADIUS=500;X-TITLE=16 Mountjoy Parade:geo:143.9733001,-38.5365953
CATEGORIES:Exercise/Lifestyle
ATTACH;FMTTYPE=image/jpeg:https://lornecommunityhouse.org.au/wp-content/uploads/2018/04/shutterstock_645012889-1-e1525310422719.jpg
ORGANIZER;CN="Peta%20Walker":MAILTO:phieler@bigpond.com
END:VEVENT
END:VCALENDAR